BEGIN:VCALENDAR
VERSION:2.0
PRODID:http://www.pmk-bad-kreuznach.de
BEGIN:VEVENT
UID:4ae14f4e-9d36-11f0-8944-0242ac11002b-1777712400000-de
DTSTAMP:20250929T131455Z
DTSTART:20260502T090000Z
DTEND:20260502T103000Z
SUMMARY;LANGUAGE=de:Uroczystość Pierwszej Komunii św. oraz Najśw. Maryi Panny, Królowej Poslki 
DESCRIPTION;LANGUAGE=de:11:00 Msza św. St. Wolfgang\, Bad Kreuznach
LOCATION;LANGUAGE=de:St. Wolfgang\, Breslauer Str. 2\, 55543 Bad Kreuznach\,
Parkingi na przyległych ulicach. Proszę wziąć pod uwagę ograniczoną możliwość parkowania i ewentualny dłuższy czas dojścia do kościoła.
IMAGE;VALUE=URI;DISPLAY=BADGE;FMTTYPE=image/jpeg:http://www.pmk-bad-kreuznach.dehttps://cdn.bistum-trier.de/export/shared/05_stockfotos/Eucharistie_Besim-Mazhiqi-Erzbistum-Paderborn.jpg
END:VEVENT
END:VCALENDAR
