BEGIN:VCALENDAR
VERSION:2.0
PRODID:http://www.pmk-bad-kreuznach.de
BEGIN:VEVENT
UID:8c783b37-3fc6-11f1-a3e9-0242ac11002b-1777630500000-de
DTSTAMP:20260424T101541Z
DTSTART:20260501T101500Z
DTEND:20260501T101541Z
SUMMARY;LANGUAGE=de:Pierwszy piątek miesiąca, wspomnienie św. Józefa Robotnika
DESCRIPTION;LANGUAGE=de:11:00 Msza św. w St. Wolfgang\, Bad Kreuznach. Po Mszy nabożeństwo majowe.
END:VEVENT
END:VCALENDAR
